BEGIN:VCALENDAR
VERSION:2.0
PRODID:-//gemdentalexperts.com - ECPv6.15.20//NONSGML v1.0//EN
CALSCALE:GREGORIAN
METHOD:PUBLISH
X-ORIGINAL-URL:https://gemdentalexperts.com
X-WR-CALDESC:Events for gemdentalexperts.com
REFRESH-INTERVAL;VALUE=DURATION:PT1H
X-Robots-Tag:noindex
X-PUBLISHED-TTL:PT1H
BEGIN:VTIMEZONE
TZID:America/Vancouver
BEGIN:DAYLIGHT
TZOFFSETFROM:-0800
TZOFFSETTO:-0700
TZNAME:PDT
DTSTART:20230312T100000
END:DAYLIGHT
BEGIN:STANDARD
TZOFFSETFROM:-0700
TZOFFSETTO:-0800
TZNAME:PST
DTSTART:20231105T090000
END:STANDARD
BEGIN:DAYLIGHT
TZOFFSETFROM:-0800
TZOFFSETTO:-0700
TZNAME:PDT
DTSTART:20240310T100000
END:DAYLIGHT
BEGIN:STANDARD
TZOFFSETFROM:-0700
TZOFFSETTO:-0800
TZNAME:PST
DTSTART:20241103T090000
END:STANDARD
BEGIN:DAYLIGHT
TZOFFSETFROM:-0800
TZOFFSETTO:-0700
TZNAME:PDT
DTSTART:20250309T100000
END:DAYLIGHT
BEGIN:STANDARD
TZOFFSETFROM:-0700
TZOFFSETTO:-0800
TZNAME:PST
DTSTART:20251102T090000
END:STANDARD
END:VTIMEZONE
BEGIN:VEVENT
DTSTART;TZID=America/Vancouver:20240524T080000
DTEND;TZID=America/Vancouver:20240524T120000
DTSTAMP:20260421T233005
CREATED:20220609T180401Z
LAST-MODIFIED:20240325T132119Z
UID:7201-1716537600-1716552000@gemdentalexperts.com
SUMMARY:New Global AAP Periodontal Classification Workshop - Day 1
DESCRIPTION:
URL:https://gemdentalexperts.com/event/new-global-aap-periodontal-classification-workshop/
ORGANIZER;CN="Gem Dental Experts":MAILTO:gem@gemdentalexperts.com
LOCATION:https://us02web.zoom.us/j/83942633937
END:VEVENT
END:VCALENDAR