BEGIN:VCALENDAR
VERSION:2.0
PRODID:-//gemdentalexperts.com - ECPv6.15.20//NONSGML v1.0//EN
CALSCALE:GREGORIAN
METHOD:PUBLISH
X-WR-CALNAME:gemdentalexperts.com
X-ORIGINAL-URL:https://gemdentalexperts.com
X-WR-CALDESC:Events for gemdentalexperts.com
REFRESH-INTERVAL;VALUE=DURATION:PT1H
X-Robots-Tag:noindex
X-PUBLISHED-TTL:PT1H
BEGIN:VTIMEZONE
TZID:America/Vancouver
BEGIN:DAYLIGHT
TZOFFSETFROM:-0800
TZOFFSETTO:-0700
TZNAME:PDT
DTSTART:20230312T100000
END:DAYLIGHT
BEGIN:STANDARD
TZOFFSETFROM:-0700
TZOFFSETTO:-0800
TZNAME:PST
DTSTART:20231105T090000
END:STANDARD
BEGIN:DAYLIGHT
TZOFFSETFROM:-0800
TZOFFSETTO:-0700
TZNAME:PDT
DTSTART:20240310T100000
END:DAYLIGHT
BEGIN:STANDARD
TZOFFSETFROM:-0700
TZOFFSETTO:-0800
TZNAME:PST
DTSTART:20241103T090000
END:STANDARD
BEGIN:DAYLIGHT
TZOFFSETFROM:-0800
TZOFFSETTO:-0700
TZNAME:PDT
DTSTART:20250309T100000
END:DAYLIGHT
BEGIN:STANDARD
TZOFFSETFROM:-0700
TZOFFSETTO:-0800
TZNAME:PST
DTSTART:20251102T090000
END:STANDARD
END:VTIMEZONE
BEGIN:VEVENT
DTSTART;TZID=America/Vancouver:20240607T080000
DTEND;TZID=America/Vancouver:20240607T120000
DTSTAMP:20260421T204116
CREATED:20220609T180704Z
LAST-MODIFIED:20240325T132427Z
UID:7205-1717747200-1717761600@gemdentalexperts.com
SUMMARY:Treatment Planning & Implementation Workshop
DESCRIPTION:
URL:https://gemdentalexperts.com/event/treatment-planning-implementation-workshop/
ORGANIZER;CN="Gem Dental Experts":MAILTO:gem@gemdentalexperts.com
LOCATION:https://us02web.zoom.us/j/86873815457
END:VEVENT
BEGIN:VEVENT
DTSTART;TZID=America/Vancouver:20240614T080000
DTEND;TZID=America/Vancouver:20240614T120000
DTSTAMP:20260421T204116
CREATED:20220609T181033Z
LAST-MODIFIED:20240325T132558Z
UID:7210-1718352000-1718366400@gemdentalexperts.com
SUMMARY:Evaluation & Prognosis Workshop
DESCRIPTION:
URL:https://gemdentalexperts.com/event/evaluation-prognosis-workshop/
ORGANIZER;CN="Gem Dental Experts":MAILTO:gem@gemdentalexperts.com
LOCATION:https://us02web.zoom.us/j/87060681099
END:VEVENT
END:VCALENDAR