BEGIN:VCALENDAR
VERSION:2.0
PRODID:-//gemdentalexperts.com - ECPv6.15.20//NONSGML v1.0//EN
CALSCALE:GREGORIAN
METHOD:PUBLISH
X-WR-CALNAME:gemdentalexperts.com
X-ORIGINAL-URL:https://gemdentalexperts.com
X-WR-CALDESC:Events for gemdentalexperts.com
REFRESH-INTERVAL;VALUE=DURATION:PT1H
X-Robots-Tag:noindex
X-PUBLISHED-TTL:PT1H
BEGIN:VTIMEZONE
TZID:America/Winnipeg
BEGIN:DAYLIGHT
TZOFFSETFROM:-0600
TZOFFSETTO:-0500
TZNAME:CDT
DTSTART:20240310T080000
END:DAYLIGHT
BEGIN:STANDARD
TZOFFSETFROM:-0500
TZOFFSETTO:-0600
TZNAME:CST
DTSTART:20241103T070000
END:STANDARD
BEGIN:DAYLIGHT
TZOFFSETFROM:-0600
TZOFFSETTO:-0500
TZNAME:CDT
DTSTART:20250309T080000
END:DAYLIGHT
BEGIN:STANDARD
TZOFFSETFROM:-0500
TZOFFSETTO:-0600
TZNAME:CST
DTSTART:20251102T070000
END:STANDARD
BEGIN:DAYLIGHT
TZOFFSETFROM:-0600
TZOFFSETTO:-0500
TZNAME:CDT
DTSTART:20260308T080000
END:DAYLIGHT
BEGIN:STANDARD
TZOFFSETFROM:-0500
TZOFFSETTO:-0600
TZNAME:CST
DTSTART:20261101T070000
END:STANDARD
END:VTIMEZONE
BEGIN:VEVENT
DTSTART;TZID=America/Winnipeg:20250605T080000
DTEND;TZID=America/Winnipeg:20250605T120000
DTSTAMP:20260421T042117
CREATED:20230508T131610Z
LAST-MODIFIED:20260210T153608Z
UID:7490-1749110400-1749124800@gemdentalexperts.com
SUMMARY:Comprehensive Oral Exam & Documentation Workshops – Day 2
DESCRIPTION:Two 1/2  day workshops 8am – noon May 29th & June 5th\, 2026
URL:https://gemdentalexperts.com/event/comprehensive-oral-exam-documentation-workshops-day-2/
ORGANIZER;CN="Gem Dental Experts":MAILTO:gem@gemdentalexperts.com
LOCATION:https://us02web.zoom.us/j/85047104626
END:VEVENT
END:VCALENDAR